BEGIN:VCALENDAR
VERSION:2.0
PRODID:-//San Pedro Calendar - ECPv6.15.20//NONSGML v1.0//EN
CALSCALE:GREGORIAN
METHOD:PUBLISH
X-WR-CALNAME:San Pedro Calendar
X-ORIGINAL-URL:https://www.sanpedrocalendar.com
X-WR-CALDESC:Events for San Pedro Calendar
REFRESH-INTERVAL;VALUE=DURATION:PT1H
X-Robots-Tag:noindex
X-PUBLISHED-TTL:PT1H
BEGIN:VTIMEZONE
TZID:America/Los_Angeles
BEGIN:DAYLIGHT
TZOFFSETFROM:-0800
TZOFFSETTO:-0700
TZNAME:PDT
DTSTART:20250309T100000
END:DAYLIGHT
BEGIN:STANDARD
TZOFFSETFROM:-0700
TZOFFSETTO:-0800
TZNAME:PST
DTSTART:20251102T090000
END:STANDARD
BEGIN:DAYLIGHT
TZOFFSETFROM:-0800
TZOFFSETTO:-0700
TZNAME:PDT
DTSTART:20260308T100000
END:DAYLIGHT
BEGIN:STANDARD
TZOFFSETFROM:-0700
TZOFFSETTO:-0800
TZNAME:PST
DTSTART:20261101T090000
END:STANDARD
BEGIN:DAYLIGHT
TZOFFSETFROM:-0800
TZOFFSETTO:-0700
TZNAME:PDT
DTSTART:20270314T100000
END:DAYLIGHT
BEGIN:STANDARD
TZOFFSETFROM:-0700
TZOFFSETTO:-0800
TZNAME:PST
DTSTART:20271107T090000
END:STANDARD
END:VTIMEZONE
BEGIN:VEVENT
DTSTART;TZID=America/Los_Angeles:20260118T150000
DTEND;TZID=America/Los_Angeles:20260118T150000
DTSTAMP:20260419T135214
CREATED:20260103T205209Z
LAST-MODIFIED:20260103T205811Z
UID:24184-1768748400-1768748400@www.sanpedrocalendar.com
SUMMARY:Valentine’s Concert-Grand Annex
DESCRIPTION:  \nTickets\nGrand Vision is pleased to announce its new Strings Chamber Ensemble Series! \nViolinist Shura Sasaki and his chamber ensemble perform well-known classical pieces and pop songs from from Mozart and Beethoven to a medley of your favorite Beatles hits and other pop songs. \nStrings Chamber Ensemble Concert Series: \nSunday\, February 22 at 3 PM “Valentine’s Concert”\nand future dates \nThanks to Bravo! Music School & Grand Vision Foundation for co-sponsoring this series.
URL:https://www.sanpedrocalendar.com/event/from-classical-to-pop-grand-annex/2026-01-18/
LOCATION:Grand Annex\, 434 W. 6th St\, San Pedro\, CA\, 90731\, United States
ATTACH;FMTTYPE=image/png:https://www.sanpedrocalendar.com/wp-content/uploads/2026/01/Classical-_to_Pop_01_18_26.png
GEO:33.7390242;-118.2865292
X-APPLE-STRUCTURED-LOCATION;VALUE=URI;X-ADDRESS=Grand Annex 434 W. 6th St San Pedro CA 90731 United States;X-APPLE-RADIUS=500;X-TITLE=434 W. 6th St:geo:-118.2865292,33.7390242
END:VEVENT
END:VCALENDAR