BEGIN:VCALENDAR
VERSION:2.0
PRODID:-//San Pedro Calendar - ECPv6.15.20//NONSGML v1.0//EN
CALSCALE:GREGORIAN
METHOD:PUBLISH
X-WR-CALNAME:San Pedro Calendar
X-ORIGINAL-URL:https://www.sanpedrocalendar.com
X-WR-CALDESC:Events for San Pedro Calendar
REFRESH-INTERVAL;VALUE=DURATION:PT1H
X-Robots-Tag:noindex
X-PUBLISHED-TTL:PT1H
BEGIN:VTIMEZONE
TZID:America/Los_Angeles
BEGIN:DAYLIGHT
TZOFFSETFROM:-0800
TZOFFSETTO:-0700
TZNAME:PDT
DTSTART:20200308T100000
END:DAYLIGHT
BEGIN:STANDARD
TZOFFSETFROM:-0700
TZOFFSETTO:-0800
TZNAME:PST
DTSTART:20201101T090000
END:STANDARD
BEGIN:DAYLIGHT
TZOFFSETFROM:-0800
TZOFFSETTO:-0700
TZNAME:PDT
DTSTART:20210314T100000
END:DAYLIGHT
BEGIN:STANDARD
TZOFFSETFROM:-0700
TZOFFSETTO:-0800
TZNAME:PST
DTSTART:20211107T090000
END:STANDARD
BEGIN:DAYLIGHT
TZOFFSETFROM:-0800
TZOFFSETTO:-0700
TZNAME:PDT
DTSTART:20220313T100000
END:DAYLIGHT
BEGIN:STANDARD
TZOFFSETFROM:-0700
TZOFFSETTO:-0800
TZNAME:PST
DTSTART:20221106T090000
END:STANDARD
END:VTIMEZONE
BEGIN:VEVENT
DTSTART;TZID=America/Los_Angeles:20210903T100000
DTEND;TZID=America/Los_Angeles:20210903T180000
DTSTAMP:20260419T090451
CREATED:20210515T234325Z
LAST-MODIFIED:20210819T200407Z
UID:16971-1630663200-1630692000@www.sanpedrocalendar.com
SUMMARY:LA Fleet Week-LA Waterfront
DESCRIPTION:Due to the uncertainty caused by the COVID-19 Delta variant\, LA Fleet Week 2021 has been postponed until Memorial Day Weekend 2022 in an effort to protect the health and safety of our guests\, exhibitors\, sponsors\, staff\, volunteers\, and military members.  \nLooking for a silver lining? We’ve got one. Our 2022 event will coincide with Fleet Week New York\, establishing simultaneous celebrations of our U.S. Sea Services on the East and West Coasts. It doesn’t get much better than that. \nFor 2022 exhibition and sponsorship opportunities please visit our website at www.lafleetweek.com. \nWhile we’re disappointed to have to postpone this year’s event\, we look forward to coming back bigger and better together in 2022!
URL:https://www.sanpedrocalendar.com/event/la-fleet-week/2021-09-03/
LOCATION:LA Waterfront\, 100 Swinford Street\, San Pedro\, CA\, 90731\, United States
CATEGORIES:Annual Event
ATTACH;FMTTYPE=image/png:https://www.sanpedrocalendar.com/wp-content/uploads/2021/08/LA-Fleet-Week-2022.png
END:VEVENT
BEGIN:VEVENT
DTSTART;TZID=America/Los_Angeles:20210906T070000
DTEND;TZID=America/Los_Angeles:20210906T070000
DTSTAMP:20260419T090451
CREATED:20210630T173644Z
LAST-MODIFIED:20210630T174221Z
UID:17381-1630911600-1630911600@www.sanpedrocalendar.com
SUMMARY:Conquer the Bridge 12-Vincent Thomas Bridge
DESCRIPTION:Greetings Everyone!\nCONQUER THE BRIDGE 12 has officially opened up registration for this years 5.3 Mile Run-Walk on September 6\, LABOR DAY Monday 2021. We will once again be joined by the brave women and men from the U.S. Military as we are the featured event on closing day of FLEET WEEK 2021. \nThe last year and a half has been an incredible challenge for all of us in so many ways. Events like CONQUER THE BRIDGE and so many others have disappeared\, and we are honored to be among the first to return. It is time to resume our lives and we hope that you will agree and join us with your family and friends to once again CONQUER THE BRIDGE. \nRegister
URL:https://www.sanpedrocalendar.com/event/conquer-the-bridge-12-vincent-thomas-bridge/
LOCATION:Vincent Thomas Bridge\, Vincent Thomas Bridge\, San Pedro\, CA\, 90731\, United States
CATEGORIES:Annual Event
ATTACH;FMTTYPE=image/png:https://www.sanpedrocalendar.com/wp-content/uploads/2021/06/Conquer-the-Bridge-080621.png
GEO:33.7496691;-118.273351
X-APPLE-STRUCTURED-LOCATION;VALUE=URI;X-ADDRESS=Vincent Thomas Bridge Vincent Thomas Bridge San Pedro CA 90731 United States;X-APPLE-RADIUS=500;X-TITLE=Vincent Thomas Bridge:geo:-118.273351,33.7496691
END:VEVENT
BEGIN:VEVENT
DTSTART;VALUE=DATE:20210918
DTEND;VALUE=DATE:20210919
DTSTAMP:20260419T090451
CREATED:20210522T130420Z
LAST-MODIFIED:20210526T153310Z
UID:17039-1631923200-1632009599@www.sanpedrocalendar.com
SUMMARY:4th Annual SoCal HoeDown at the Port of Los Angeles
DESCRIPTION:4th Annual So-Cal Hoedown Returns!\nSept 18\, 2021\nPort of Los Angeles \nLine Up Announcement \nHorrorpops\nFace to Face\nTSOL\nFishbone\nThrow Rag\nSupersuckers\nNashville Pussy\nJesse Dayton\nThe Untouchables\nPunk Rock Karaoke (with special guests)\nCH3\nStreetwalkin’ Cheetahs\nLove Canal\nCornfed Project\nThe Grim\nThe Heroes\nThe Side Eyes\nMugshot Mike\nSailors Songbook\nHamapple \nMore bands to be announced \n3 Stages | Retail Vendors | Food Trucks | Full Bar\nKids 10 and under are Free \nEARLY BIRD TICKETS ARE STILL AVAILABLE FOR A LIMITED TIME \nBUY TICKETS
URL:https://www.sanpedrocalendar.com/event/4th-annual-socal-hoedown-at-the-port-of-los-angeles/
LOCATION:Port of Los Angeles\, Berth 46\, 3011 Miner Street\, San Pedro\, CA\, 90731\, United States
CATEGORIES:Annual Event
ATTACH;FMTTYPE=image/png:https://www.sanpedrocalendar.com/wp-content/uploads/2021/05/9-18-SoCal-HoeDown.png
END:VEVENT
END:VCALENDAR