BEGIN:VCALENDAR
VERSION:2.0
PRODID:-//San Pedro Calendar - ECPv6.15.20//NONSGML v1.0//EN
CALSCALE:GREGORIAN
METHOD:PUBLISH
X-WR-CALNAME:San Pedro Calendar
X-ORIGINAL-URL:https://www.sanpedrocalendar.com
X-WR-CALDESC:Events for San Pedro Calendar
REFRESH-INTERVAL;VALUE=DURATION:PT1H
X-Robots-Tag:noindex
X-PUBLISHED-TTL:PT1H
BEGIN:VTIMEZONE
TZID:America/Los_Angeles
BEGIN:DAYLIGHT
TZOFFSETFROM:-0800
TZOFFSETTO:-0700
TZNAME:PDT
DTSTART:20200308T100000
END:DAYLIGHT
BEGIN:STANDARD
TZOFFSETFROM:-0700
TZOFFSETTO:-0800
TZNAME:PST
DTSTART:20201101T090000
END:STANDARD
BEGIN:DAYLIGHT
TZOFFSETFROM:-0800
TZOFFSETTO:-0700
TZNAME:PDT
DTSTART:20210314T100000
END:DAYLIGHT
BEGIN:STANDARD
TZOFFSETFROM:-0700
TZOFFSETTO:-0800
TZNAME:PST
DTSTART:20211107T090000
END:STANDARD
BEGIN:DAYLIGHT
TZOFFSETFROM:-0800
TZOFFSETTO:-0700
TZNAME:PDT
DTSTART:20220313T100000
END:DAYLIGHT
BEGIN:STANDARD
TZOFFSETFROM:-0700
TZOFFSETTO:-0800
TZNAME:PST
DTSTART:20221106T090000
END:STANDARD
END:VTIMEZONE
BEGIN:VEVENT
DTSTART;VALUE=DATE:20211016
DTEND;VALUE=DATE:20211017
DTSTAMP:20260419T104514
CREATED:20210526T151734Z
LAST-MODIFIED:20210526T152310Z
UID:17073-1634342400-1634428799@www.sanpedrocalendar.com
SUMMARY:FAHM FEST Filipino Festival
DESCRIPTION:Highlights \nThe largest Filipino Festival in LA in 2021\nPerformances from local musicians\, dance crews\, and models\nDelicious food from local vendors and high-profile chefs\nFamily-friendly festival with carnival games and ferris wheel\n500\,000 square ft. of colorful displays\, art installations and more!\nTickets for this experience are exclusively available on Fever\n\n\nGeneral Info \nDate: October 16 & 17\, 2021\nTime: Morning passes provide access from 11am to 4pm. GA & VIP provide access from 11am to 11pm.\nLocation: Outer Harbor/Berth 46 in San Pedro\, California\nAge requirement: All ages from 11am–4pm\, 18+ from 5pm–11pm. Children ages 3 and under come free!\nAccessibility: This event is wheelchair accessible \n Please consult the FAQs of this experience here\nYour safety is Fever’s priority. You can read the safety measures for this event here\n\n\nArtist Lineup \nHeadliners and more artists coming soon!\nSaturday Day Show \nRising Stars\, Six Sense\, Catalyst\, Heaven Marley\, Felson & Friends\, Jej Vinson\, Tracy Cruz\, Adelaine Morin\nSaturday Night Show \nTenelle\nSpawnbreezie\n\nSunday Day Show \n\nJeremy Passion\, Gabe Bondoc\, & Melissa Polinar\, Chow Mane\, Heaven Anew\, Zupanova & Friends\nSunday Night Show \nEZ Mil\nP-Lo\nDescription\nFAHMFest\, an immersive festival inspired by Filipino-American culture\, is coming to the gorgeous 500\,000 square ft. Outer Harbor/Berth 46 venue in October! Featuring all-time favorite foods\, music\, art\, dance\, and fashion\, this family-friendly event will highlight the elements that make Filipino culture so special. Enjoy spectacular live performances from headline artists\, local favorites\, and beloved newcomers. Step into various “districts” at the festival like Filipinotown\, Koreatown\, and Chinatown to get an authentic taste of Asian cultures. Explore the diverse collection of local art\, pop-up installations\, and cultural performances. Join us as we transform the historic Port of Los Angeles for a weekend you won’t forget!
URL:https://www.sanpedrocalendar.com/event/fahm-fest-filipino-festival/2021-10-16/
LOCATION:Berth 46\, 3011 Miner St\,\, San Pedro\, CA\, 90731
CATEGORIES:Annual Event
ATTACH;FMTTYPE=image/png:https://www.sanpedrocalendar.com/wp-content/uploads/2021/05/10-16-17-21-FAHM-FEST.png
GEO:33.7154373;-118.2742548
X-APPLE-STRUCTURED-LOCATION;VALUE=URI;X-ADDRESS=Berth 46 3011 Miner St San Pedro CA 90731;X-APPLE-RADIUS=500;X-TITLE=3011 Miner St\,:geo:-118.2742548,33.7154373
END:VEVENT
BEGIN:VEVENT
DTSTART;TZID=America/Los_Angeles:20211016T090000
DTEND;TZID=America/Los_Angeles:20211016T210000
DTSTAMP:20260419T104514
CREATED:20211011T181654Z
LAST-MODIFIED:20211011T181818Z
UID:18037-1634374800-1634418000@www.sanpedrocalendar.com
SUMMARY:20th Relay for Life
DESCRIPTION:The San Pedro community is fighting cancer by participating in the American Cancer Society’s annual RELAY FOR LIFE event. \n\nThe San Pedro Relay For Life is a life-changing event that helps our community celebrate the lives of people who have battled cancer\, remember loved ones lost\, and fight back against the disease.\n\n\nYour reasons for getting involved in Relay For Life are as unique and special as the story that motivates you. Because of your support\, we are creating a world with less cancer and more birthdays!
URL:https://www.sanpedrocalendar.com/event/20th-relay-for-life/
LOCATION:CA
CATEGORIES:Annual Event,Health
END:VEVENT
BEGIN:VEVENT
DTSTART;TZID=America/Los_Angeles:20211022T183000
DTEND;TZID=America/Los_Angeles:20211022T200000
DTSTAMP:20260419T104514
CREATED:20211014T200147Z
LAST-MODIFIED:20211014T200908Z
UID:18057-1634927400-1634932800@www.sanpedrocalendar.com
SUMMARY:Scary Stories 19 Online 10-22/11-02
DESCRIPTION:ONLINE October 22 – November 2\nGather around the virtual fire at home for a unique online program.\nGo to MelanieJonesStoryteller.com and click on Witch. \nSCARY STORIES 19 ONLINE is free. Donations gratefully accepted. \nLive or virtual\, SCARY STORIES is spellbinding storytelling with fabulous sound effects suitable for young and old\, living and … shhhhhh!\nProduced and directed by Melanie Jones.\nWith Heather Handwerk\, John Charles Meyer\, Cathy Skubik and Bill Wolski\nreading works by Gahan Wilson\, Susan Price\, Ruskin Bond\, Libba Bray and Charles Dickens\, among others. \nScary Stories has been an annual event at AGCC since 2002. In 19 years\, we have performed almost 200 individual stories\, offering a unique program each October. Scary Stories is for all ages. The program starts at 6:30 pm and is over a little after 8 pm. One night only – the Saturday before Halloween. \nSCARY STORIES 19 LIVE is presented in association with Angels Gate Cultural Center.
URL:https://www.sanpedrocalendar.com/event/scary-stories-19-online-10-22-11-02/
LOCATION:CA
CATEGORIES:Annual Event
ATTACH;FMTTYPE=image/png:https://www.sanpedrocalendar.com/wp-content/uploads/2021/10/Scary-Stories-19.png
END:VEVENT
BEGIN:VEVENT
DTSTART;TZID=America/Los_Angeles:20211029T180000
DTEND;TZID=America/Los_Angeles:20211029T210000
DTSTAMP:20260419T104514
CREATED:20211029T180319Z
LAST-MODIFIED:20211029T182139Z
UID:18089-1635530400-1635541200@www.sanpedrocalendar.com
SUMMARY:Smilin' Jack
DESCRIPTION:Phillips 66 and the 76 brand invites you to Smilin’ Jack for his 69th annual appearance at the Los Angeles Refinery. This year\, Smilin’ Jack teams up with the Los Angeles Dodgers Foundation (LAFD) and 76 to help fundraise to expand STEM programming to elementary and middle-schools in Los Angeles. Join our drive through Halloween event to view the themed decorations while you enjoy our yummy commercially packaged caramel corn. To learn more about how you can join 76 and LAFD fundraiser and support the initiative\, text FULE to 41623. \n  \nVisitors will need to take additional safety precautions; \nA face covering must be worn. \nVisitors will be required to conply to dorection from Phillips 66 personnel\, local law enforcement and security staff during event. \nVisitors must remain in vehicle and cannot leave vehicles at any time. \nDo not attend or enter the event if you: \nHave COVID-19 symptoms\, have an elevated body temperature\, are currently subject to a Health Officer Isolation or Quarantine Order \nFor more information call 310-952-6371
URL:https://www.sanpedrocalendar.com/event/smilin-jack/
LOCATION:Phillips Refinery\, 1660 West Anaheim Street\, Wilmington\, CA
CATEGORIES:Annual Event
ATTACH;FMTTYPE=image/png:https://www.sanpedrocalendar.com/wp-content/uploads/2021/10/Smilin-Jack-10-29-21.png
END:VEVENT
BEGIN:VEVENT
DTSTART;TZID=America/Los_Angeles:20211030T183000
DTEND;TZID=America/Los_Angeles:20211030T183000
DTSTAMP:20260419T104514
CREATED:20211014T203339Z
LAST-MODIFIED:20211015T155451Z
UID:18062-1635618600-1635618600@www.sanpedrocalendar.com
SUMMARY:Scary Stories Live
DESCRIPTION:LIVE Saturday\, October 30\, 6:30 pm\nAngels Gate Cultural Center\, 3601 South Gaffey Street in San Pedro.\nPerformance outside in the amphitheater around the bonfire.\nDistanced seating; masks required.\nTickets: $5 general admission. Children 6 and under – free!\nCash only\, please. No reservations required. Picnics welcome.\nBring your own chairs and dress warmly so you don’t get the shivers!\nLimited number of folding chairs available free on site.
URL:https://www.sanpedrocalendar.com/event/scary-stories-live/
LOCATION:Angels Gate Cultural Center\, 3601 S. Gaffey St\, San Pedro\, CA\, 90731\, United States
CATEGORIES:Annual Event
ATTACH;FMTTYPE=image/png:https://www.sanpedrocalendar.com/wp-content/uploads/2021/10/Scary-Stories-19-1.png
GEO:33.7134525;-118.2941368
X-APPLE-STRUCTURED-LOCATION;VALUE=URI;X-ADDRESS=Angels Gate Cultural Center 3601 S. Gaffey St San Pedro CA 90731 United States;X-APPLE-RADIUS=500;X-TITLE=3601 S. Gaffey St:geo:-118.2941368,33.7134525
END:VEVENT
BEGIN:VEVENT
DTSTART;TZID=America/Los_Angeles:20211031T120000
DTEND;TZID=America/Los_Angeles:20211031T160000
DTSTAMP:20260419T104514
CREATED:20211029T172518Z
LAST-MODIFIED:20211029T173132Z
UID:18077-1635681600-1635696000@www.sanpedrocalendar.com
SUMMARY:Trick or Treat Crafted
DESCRIPTION:Come in costume to Crafted for a booth to booth trick or treat! A safe indoor trick or treat around the marketplace from shop to studio. \nDiscover crafts and candy through the market. Pumpkin decorating\, Painted clay shapes\, seed bombs\, and more! \nHandmade costumes encouraged! \n  \nChildren must be supervised by an adult and all visitors must wear a mask while inside the building.
URL:https://www.sanpedrocalendar.com/event/trick-or-treat-crafted/
LOCATION:Crafted at the Port of Los Angeles\, 112 E. 22nd Street\, San Pedro\, CA\, 90731\, United States
CATEGORIES:Annual Event
ATTACH;FMTTYPE=image/png:https://www.sanpedrocalendar.com/wp-content/uploads/2021/10/Crafted-10-31-21.png
GEO:33.7279769;-118.2800321
X-APPLE-STRUCTURED-LOCATION;VALUE=URI;X-ADDRESS=Crafted at the Port of Los Angeles 112 E. 22nd Street San Pedro CA 90731 United States;X-APPLE-RADIUS=500;X-TITLE=112 E. 22nd Street:geo:-118.2800321,33.7279769
END:VEVENT
END:VCALENDAR