BEGIN:VCALENDAR
VERSION:2.0
PRODID:-//San Pedro Calendar - ECPv6.15.20//NONSGML v1.0//EN
CALSCALE:GREGORIAN
METHOD:PUBLISH
X-WR-CALNAME:San Pedro Calendar
X-ORIGINAL-URL:https://www.sanpedrocalendar.com
X-WR-CALDESC:Events for San Pedro Calendar
REFRESH-INTERVAL;VALUE=DURATION:PT1H
X-Robots-Tag:noindex
X-PUBLISHED-TTL:PT1H
BEGIN:VTIMEZONE
TZID:America/Los_Angeles
BEGIN:DAYLIGHT
TZOFFSETFROM:-0800
TZOFFSETTO:-0700
TZNAME:PDT
DTSTART:20210314T100000
END:DAYLIGHT
BEGIN:STANDARD
TZOFFSETFROM:-0700
TZOFFSETTO:-0800
TZNAME:PST
DTSTART:20211107T090000
END:STANDARD
BEGIN:DAYLIGHT
TZOFFSETFROM:-0800
TZOFFSETTO:-0700
TZNAME:PDT
DTSTART:20220313T100000
END:DAYLIGHT
BEGIN:STANDARD
TZOFFSETFROM:-0700
TZOFFSETTO:-0800
TZNAME:PST
DTSTART:20221106T090000
END:STANDARD
BEGIN:DAYLIGHT
TZOFFSETFROM:-0800
TZOFFSETTO:-0700
TZNAME:PDT
DTSTART:20230312T100000
END:DAYLIGHT
BEGIN:STANDARD
TZOFFSETFROM:-0700
TZOFFSETTO:-0800
TZNAME:PST
DTSTART:20231105T090000
END:STANDARD
END:VTIMEZONE
BEGIN:VEVENT
DTSTART;VALUE=DATE:20220303
DTEND;VALUE=DATE:20220304
DTSTAMP:20260419T172731
CREATED:20220301T015048Z
LAST-MODIFIED:20220301T020916Z
UID:18815-1646265600-1646351999@www.sanpedrocalendar.com
SUMMARY:LA Harbor International Film Festival
DESCRIPTION:“To create a cinematic bridge between the people of the region and the people of the world” \nThe LA Harbor International Film Festival (LAHIFF) showcases film and \nvideo that reflects the harbor and all that it embraces – shipping and \ncommerce\, fishing\, sailing\, water sports\, sea life and the area’s rich \nethnic and cultural influences – to create a cinematic bridge between \nthe people of the region and the people of the world. \n\nThe first LAHIFF\, is a non-competitive\, non-juried festival\, with \nprogramming by invitation and referral to be announced. Including a \nvariety of film and video from around the world; and educational \nprograms for youth and the general audience. \n\nLA Harbor International Film Festival is a 501 (c ) 3 non profit \norganization. \nClick here for schedule and tickets
URL:https://www.sanpedrocalendar.com/event/la-harbor-international-film-festival/2022-03-03/
LOCATION:CA
CATEGORIES:Annual Event
ATTACH;FMTTYPE=image/png:https://www.sanpedrocalendar.com/wp-content/uploads/2022/02/www.laharborfilmfest.com-3-3-6-22.png
END:VEVENT
BEGIN:VEVENT
DTSTART;VALUE=DATE:20220303
DTEND;VALUE=DATE:20220307
DTSTAMP:20260419T172731
CREATED:20220304T161801Z
LAST-MODIFIED:20220304T161847Z
UID:18843-1646265600-1646611199@www.sanpedrocalendar.com
SUMMARY:LA Harbor International Film Festival
DESCRIPTION:LA Harbor International Film Festival \n  \nThe LA Harbor International Film Festival (LAHIFF) showcases film and\nvideo that reflects the harbor and all that it embraces – shipping and\ncommerce\, fishing\, sailing\, water sports\, sea life and the area’s rich\nethnic and cultural influences – to create a cinematic bridge between\nthe people of the region and the people of the world. \nThe first LAHIFF\, is a non-competitive\, non-juried festival\, with\nprogramming by invitation and referral to be announced. Including a\nvariety of film and video from around the world; and educational\nprograms for youth and the general audience. \n19th LA Harbor International Film Festival (LAHIFF)\nWHEN: March 3-6\, 2022\nWHERE: Grand Warner Theatre except program A\nList of films and links to view: \nMarch 3 Prog. A RBSM – 10:30 am “real time Webinar”\n10:30 a.m. TREASURE ISLAND https://bit.ly/RTBSTM2022\n“Zoom” access: 869 4231 1869\, no password\nLink to view: https://www.amazon.com/Treasure-Island-Basil-Sidney/dp/B003QSFW9C/ref=tmm_aiv_swatch_0?_encoding=UTF8&qid=&sr \nMarch 4 Prog. B – Opening Night West Side Story (1961)\nhttps://www.imdb.com/title/tt0055614/?ref_=fn_al_tt_2 \nMarch 5 Prog. C – The Sound Of Music\nhttps://www.imdb.com/title/tt0059742/?ref_=fn_al_tt_1 \nDocSunday\nMarch 6 Prog. D – New Filmmakers L.A. Short Documentary Project (no fee) March 3-6 only: www.NFMLA.org/LAHIFF2022\nMarch 6 Prog. E – Eddy’s World see it no fee only March 3-6 only: Doors open at 2pm\nhttps://vimeo.com/453116634\nMarch 6 Prog. F – Stories Of Los Angeles Harbor Area: For Yesterday\, Today & Tomorrow (SOLAHA) “The Movie – Volumes II & III”\nFrom March 6 see at website: www.storieslaharborarea.com
URL:https://www.sanpedrocalendar.com/event/la-harbor-international-film-festival-2/2022-03-03/
LOCATION:Warner Grand Theatre\,  478 W. 6th St.\, San Pedro\, CA\, 90731\, United States
CATEGORIES:Annual Event,Film
ATTACH;FMTTYPE=image/png:https://www.sanpedrocalendar.com/wp-content/uploads/2022/02/www.laharborfilmfest.com-3-3-6-22.png
GEO:33.7390456;-118.287119
X-APPLE-STRUCTURED-LOCATION;VALUE=URI;X-ADDRESS=Warner Grand Theatre  478 W. 6th St. San Pedro CA 90731 United States;X-APPLE-RADIUS=500;X-TITLE=478 W. 6th St.:geo:-118.287119,33.7390456
END:VEVENT
BEGIN:VEVENT
DTSTART;VALUE=DATE:20220304
DTEND;VALUE=DATE:20220305
DTSTAMP:20260419T172731
CREATED:20220304T161801Z
LAST-MODIFIED:20220304T162152Z
UID:18845-1646352000-1646438399@www.sanpedrocalendar.com
SUMMARY:LA Harbor International Film Festival
DESCRIPTION:LA Harbor International Film Festival \n  \nThe LA Harbor International Film Festival (LAHIFF) showcases film and\nvideo that reflects the harbor and all that it embraces – shipping and\ncommerce\, fishing\, sailing\, water sports\, sea life and the area’s rich\nethnic and cultural influences – to create a cinematic bridge between\nthe people of the region and the people of the world. \nThe first LAHIFF\, is a non-competitive\, non-juried festival\, with\nprogramming by invitation and referral to be announced. Including a\nvariety of film and video from around the world; and educational\nprograms for youth and the general audience. \n19th LA Harbor International Film Festival (LAHIFF)\nWHEN: March 3-6\, 2022\nWHERE: Grand Warner Theatre except program A\nList of films and links to view: \nMarch 3 Prog. A RBSM – 10:30 am “real time Webinar”\n10:30 a.m. TREASURE ISLAND https://bit.ly/RTBSTM2022\n“Zoom” access: 869 4231 1869\, no password\nLink to view: https://www.amazon.com/Treasure-Island-Basil-Sidney/dp/B003QSFW9C/ref=tmm_aiv_swatch_0?_encoding=UTF8&qid=&sr \nMarch 4 Prog. B – Opening Night West Side Story (1961)\nhttps://www.imdb.com/title/tt0055614/?ref_=fn_al_tt_2 \nMarch 5 Prog. C – The Sound Of Music\nhttps://www.imdb.com/title/tt0059742/?ref_=fn_al_tt_1 \nDocSunday\nMarch 6 Prog. D – New Filmmakers L.A. Short Documentary Project (no fee) March 3-6 only: www.NFMLA.org/LAHIFF2022\nMarch 6 Prog. E – Eddy’s World see it no fee only March 3-6 only: Doors open at 2pm\nhttps://vimeo.com/453116634\nMarch 6 Prog. F – Stories Of Los Angeles Harbor Area: For Yesterday\, Today & Tomorrow (SOLAHA) “The Movie – Volumes II & III”\nFrom March 6 see at website: www.storieslaharborarea.com
URL:https://www.sanpedrocalendar.com/event/la-harbor-international-film-festival-2-2022-03-04/
LOCATION:Warner Grand Theatre\,  478 W. 6th St.\, San Pedro\, CA\, 90731\, United States
CATEGORIES:Annual Event,Film
ATTACH;FMTTYPE=image/png:https://www.sanpedrocalendar.com/wp-content/uploads/2022/02/www.laharborfilmfest.com-3-3-6-22.png
GEO:33.7390456;-118.287119
X-APPLE-STRUCTURED-LOCATION;VALUE=URI;X-ADDRESS=Warner Grand Theatre  478 W. 6th St. San Pedro CA 90731 United States;X-APPLE-RADIUS=500;X-TITLE=478 W. 6th St.:geo:-118.287119,33.7390456
END:VEVENT
BEGIN:VEVENT
DTSTART;VALUE=DATE:20220305
DTEND;VALUE=DATE:20220306
DTSTAMP:20260419T172731
CREATED:20220304T161801Z
LAST-MODIFIED:20220304T162502Z
UID:18846-1646438400-1646524799@www.sanpedrocalendar.com
SUMMARY:LA Harbor International Film Festival
DESCRIPTION:LA Harbor International Film Festival \nThe LA Harbor International Film Festival (LAHIFF) showcases film and\nvideo that reflects the harbor and all that it embraces – shipping and\ncommerce\, fishing\, sailing\, water sports\, sea life and the area’s rich\nethnic and cultural influences – to create a cinematic bridge between\nthe people of the region and the people of the world. \nThe first LAHIFF\, is a non-competitive\, non-juried festival\, with\nprogramming by invitation and referral to be announced. Including a\nvariety of film and video from around the world; and educational\nprograms for youth and the general audience. \n19th LA Harbor International Film Festival (LAHIFF)\nWHEN: March 3-6\, 2022\nWHERE: Grand Warner Theatre except program A\nList of films and links to view: \nMarch 3 Prog. A RBSM – 10:30 am “real time Webinar”\n10:30 a.m. TREASURE ISLAND https://bit.ly/RTBSTM2022\n“Zoom” access: 869 4231 1869\, no password\nLink to view: https://www.amazon.com/Treasure-Island-Basil-Sidney/dp/B003QSFW9C/ref=tmm_aiv_swatch_0?_encoding=UTF8&qid=&sr \nMarch 4 Prog. B – Opening Night West Side Story (1961)\nhttps://www.imdb.com/title/tt0055614/?ref_=fn_al_tt_2 \nMarch 5 Prog. C – The Sound Of Music\nhttps://www.imdb.com/title/tt0059742/?ref_=fn_al_tt_1 \nDocSunday\nMarch 6 Prog. D – New Filmmakers L.A. Short Documentary Project (no fee) March 3-6 only: www.NFMLA.org/LAHIFF2022\nMarch 6 Prog. E – Eddy’s World see it no fee only March 3-6 only: Doors open at 2pm\nhttps://vimeo.com/453116634\nMarch 6 Prog. F – Stories Of Los Angeles Harbor Area: For Yesterday\, Today & Tomorrow (SOLAHA) “The Movie – Volumes II & III”\nFrom March 6 see at website: www.storieslaharborarea.com
URL:https://www.sanpedrocalendar.com/event/la-harbor-international-film-festival-2-2022-03-05/
LOCATION:Warner Grand Theatre\,  478 W. 6th St.\, San Pedro\, CA\, 90731\, United States
CATEGORIES:Annual Event,Film
ATTACH;FMTTYPE=image/png:https://www.sanpedrocalendar.com/wp-content/uploads/2022/02/www.laharborfilmfest.com-3-3-6-22.png
GEO:33.7390456;-118.287119
X-APPLE-STRUCTURED-LOCATION;VALUE=URI;X-ADDRESS=Warner Grand Theatre  478 W. 6th St. San Pedro CA 90731 United States;X-APPLE-RADIUS=500;X-TITLE=478 W. 6th St.:geo:-118.287119,33.7390456
END:VEVENT
BEGIN:VEVENT
DTSTART;VALUE=DATE:20220306
DTEND;VALUE=DATE:20220307
DTSTAMP:20260419T172731
CREATED:20220304T161801Z
LAST-MODIFIED:20220304T162902Z
UID:18847-1646524800-1646611199@www.sanpedrocalendar.com
SUMMARY:LA Harbor International Film Festival
DESCRIPTION:LA Harbor International Film Festival \n  \nThe LA Harbor International Film Festival (LAHIFF) showcases film and\nvideo that reflects the harbor and all that it embraces – shipping and\ncommerce\, fishing\, sailing\, water sports\, sea life and the area’s rich\nethnic and cultural influences – to create a cinematic bridge between\nthe people of the region and the people of the world. \nThe first LAHIFF\, is a non-competitive\, non-juried festival\, with\nprogramming by invitation and referral to be announced. Including a\nvariety of film and video from around the world; and educational\nprograms for youth and the general audience. \n19th LA Harbor International Film Festival (LAHIFF)\nWHEN: March 3-6\, 2022\nWHERE: Grand Warner Theatre except program A\nList of films and links to view: \nMarch 3 Prog. A RBSM – 10:30 am “real time Webinar”\n10:30 a.m. TREASURE ISLAND https://bit.ly/RTBSTM2022\n“Zoom” access: 869 4231 1869\, no password\nLink to view: https://www.amazon.com/Treasure-Island-Basil-Sidney/dp/B003QSFW9C/ref=tmm_aiv_swatch_0?_encoding=UTF8&qid=&sr \nMarch 4 Prog. B – Opening Night West Side Story (1961)\nhttps://www.imdb.com/title/tt0055614/?ref_=fn_al_tt_2 \nMarch 5 Prog. C – The Sound Of Music\nhttps://www.imdb.com/title/tt0059742/?ref_=fn_al_tt_1 \nDocSunday\nMarch 6 Prog. D – New Filmmakers L.A. Short Documentary Project (no fee) March 3-6 only: www.NFMLA.org/LAHIFF2022\nMarch 6 Prog. E – Eddy’s World see it no fee only March 3-6 only: Doors open at 2pm\nhttps://vimeo.com/453116634\nMarch 6 Prog. F – Stories Of Los Angeles Harbor Area: For Yesterday\, Today & Tomorrow (SOLAHA) “The Movie – Volumes II & III”\nFrom March 6 see at website: www.storieslaharborarea.com
URL:https://www.sanpedrocalendar.com/event/la-harbor-international-film-festival-2-2022-03-06/
LOCATION:Warner Grand Theatre\,  478 W. 6th St.\, San Pedro\, CA\, 90731\, United States
CATEGORIES:Annual Event,Film
ATTACH;FMTTYPE=image/png:https://www.sanpedrocalendar.com/wp-content/uploads/2022/02/www.laharborfilmfest.com-3-3-6-22.png
GEO:33.7390456;-118.287119
X-APPLE-STRUCTURED-LOCATION;VALUE=URI;X-ADDRESS=Warner Grand Theatre  478 W. 6th St. San Pedro CA 90731 United States;X-APPLE-RADIUS=500;X-TITLE=478 W. 6th St.:geo:-118.287119,33.7390456
END:VEVENT
END:VCALENDAR