BEGIN:VCALENDAR
VERSION:2.0
PRODID:-//San Pedro Calendar - ECPv6.15.20//NONSGML v1.0//EN
CALSCALE:GREGORIAN
METHOD:PUBLISH
X-WR-CALNAME:San Pedro Calendar
X-ORIGINAL-URL:https://www.sanpedrocalendar.com
X-WR-CALDESC:Events for San Pedro Calendar
REFRESH-INTERVAL;VALUE=DURATION:PT1H
X-Robots-Tag:noindex
X-PUBLISHED-TTL:PT1H
BEGIN:VTIMEZONE
TZID:America/Los_Angeles
BEGIN:DAYLIGHT
TZOFFSETFROM:-0800
TZOFFSETTO:-0700
TZNAME:PDT
DTSTART:20210314T100000
END:DAYLIGHT
BEGIN:STANDARD
TZOFFSETFROM:-0700
TZOFFSETTO:-0800
TZNAME:PST
DTSTART:20211107T090000
END:STANDARD
BEGIN:DAYLIGHT
TZOFFSETFROM:-0800
TZOFFSETTO:-0700
TZNAME:PDT
DTSTART:20220313T100000
END:DAYLIGHT
BEGIN:STANDARD
TZOFFSETFROM:-0700
TZOFFSETTO:-0800
TZNAME:PST
DTSTART:20221106T090000
END:STANDARD
BEGIN:DAYLIGHT
TZOFFSETFROM:-0800
TZOFFSETTO:-0700
TZNAME:PDT
DTSTART:20230312T100000
END:DAYLIGHT
BEGIN:STANDARD
TZOFFSETFROM:-0700
TZOFFSETTO:-0800
TZNAME:PST
DTSTART:20231105T090000
END:STANDARD
END:VTIMEZONE
BEGIN:VEVENT
DTSTART;TZID=America/Los_Angeles:20220618T130000
DTEND;TZID=America/Los_Angeles:20220618T210000
DTSTAMP:20260419T224022
CREATED:20220609T170258Z
LAST-MODIFIED:20220617T040814Z
UID:19148-1655557200-1655586000@www.sanpedrocalendar.com
SUMMARY:San Pedro Pride 2022
DESCRIPTION:12:00 Noon – We’re excited to raise our flag and show everyone our alliance is stronger than ever! We hope you can join us on June 18th at the LA Maritime Museum for this momentous occasion. There will be a trolly that will take guests straight to the main event right after! \n1:00 – 1:30 PM	Gates open for Pride! \n1:30 – 2:30 PM	Mariachi Arcoiris de Los Angeles. \n2:30 – 4:00 PM	Rebecca Lynn & the Magical Planet \n4:00 – 5:00 PM	DJ Rich Girl \n5:00 – 5:45 PM	Political Hour hosted by Jewels of Long Beach and BCA \n5:45 – 6:30 PM	Jewels of Long Beach and her Gals for a Drag Extravaganza! \n6:30 – 9:00 PM	DJ Rich Girl \n9:00 – 12:00 PM	Afterparty at La Bocca Felice FT.DJ Dangerruss \nFree Entry for All!\nMusical Entertainment\nKid Crafts Area\nFood Trucks and More!
URL:https://www.sanpedrocalendar.com/event/san-pedro-pride-2022/
LOCATION:CA
CATEGORIES:Annual Event
ATTACH;FMTTYPE=image/png:https://www.sanpedrocalendar.com/wp-content/uploads/2022/06/San-Pedro-Pride-6-18-22.png
END:VEVENT
BEGIN:VEVENT
DTSTART;TZID=America/Los_Angeles:20220618T130000
DTEND;TZID=America/Los_Angeles:20220618T235900
DTSTAMP:20260419T224022
CREATED:20220617T032953Z
LAST-MODIFIED:20220617T033239Z
UID:19162-1655557200-1655596740@www.sanpedrocalendar.com
SUMMARY:San Pedro Pride Festival
DESCRIPTION:June 18th\, 2022 1:00 PM – 12:00 PM \nPride Festival \n1:00 – 1:30 PM	Gates open for Pride! \n1:30 – 2:30 PM	Mariachi Arcoiris de Los Angeles. \n2:30 – 4:00 PM	Rebecca Lynn & the Magical Planet \n4:00 – 5:00 PM	DJ Rich Girl \n5:00 – 5:45 PM	Political Hour hosted by Jewels of Long Beach and BCA \n5:45 – 6:30 PM	Jewels of Long Beach and her Gals for a Drag Extravaganza! \n6:30 – 9:00 PM	DJ Rich Girl \n9:00 – 12:00 PM	Afterparty at La Bocca Felice FT.DJ Dangerruss \nFree Entry for All!\nMusical Entertainment\nKid Crafts Area\nFood Trucks and More!
URL:https://www.sanpedrocalendar.com/event/san-pedro-pride-festival/
LOCATION:CA
CATEGORIES:Annual Event
ATTACH;FMTTYPE=image/jpeg:https://www.sanpedrocalendar.com/wp-content/uploads/2022/06/Pride-Festival-06-18-22.jpg
END:VEVENT
END:VCALENDAR