BEGIN:VCALENDAR
VERSION:2.0
PRODID:-//San Pedro Calendar - ECPv6.15.20//NONSGML v1.0//EN
CALSCALE:GREGORIAN
METHOD:PUBLISH
X-ORIGINAL-URL:https://www.sanpedrocalendar.com
X-WR-CALDESC:Events for San Pedro Calendar
REFRESH-INTERVAL;VALUE=DURATION:PT1H
X-Robots-Tag:noindex
X-PUBLISHED-TTL:PT1H
BEGIN:VTIMEZONE
TZID:America/Los_Angeles
BEGIN:DAYLIGHT
TZOFFSETFROM:-0800
TZOFFSETTO:-0700
TZNAME:PDT
DTSTART:20200308T100000
END:DAYLIGHT
BEGIN:STANDARD
TZOFFSETFROM:-0700
TZOFFSETTO:-0800
TZNAME:PST
DTSTART:20201101T090000
END:STANDARD
BEGIN:DAYLIGHT
TZOFFSETFROM:-0800
TZOFFSETTO:-0700
TZNAME:PDT
DTSTART:20210314T100000
END:DAYLIGHT
BEGIN:STANDARD
TZOFFSETFROM:-0700
TZOFFSETTO:-0800
TZNAME:PST
DTSTART:20211107T090000
END:STANDARD
BEGIN:DAYLIGHT
TZOFFSETFROM:-0800
TZOFFSETTO:-0700
TZNAME:PDT
DTSTART:20220313T100000
END:DAYLIGHT
BEGIN:STANDARD
TZOFFSETFROM:-0700
TZOFFSETTO:-0800
TZNAME:PST
DTSTART:20221106T090000
END:STANDARD
END:VTIMEZONE
BEGIN:VEVENT
DTSTART;TZID=America/Los_Angeles:20210814T100000
DTEND;TZID=America/Los_Angeles:20210814T100000
DTSTAMP:20260419T091134
CREATED:20210806T151908Z
LAST-MODIFIED:20210806T152336Z
UID:17615-1628935200-1628935200@www.sanpedrocalendar.com
SUMMARY:Spirit of ’45 Celebration-SS LANE VICTORY
DESCRIPTION:Please join us at the SS LANE VICTORY in San Pedro for a Spirit of ’45 Celebration! Adults: $10\nChildren: $5\nSS LANE VICTORY’s Naval Armed Guard division will have displays and vehicles set up on the pier by the ship for your inspection. There will be character re-enactors and living historians on hand as well. At noon we will have a ceremony to commemorate the end of WWII\, culminating with the firing of the ship’s 5”/38 caliber cannon. Take a tour of the SS LANE VICTORY\, one of only three Victory ships left in the world (she was built in 1945 right here in the Los Angeles Harbor). Come join us for a day to be remembered. See you there!
URL:https://www.sanpedrocalendar.com/event/spirit-of-45-celebration-ss-lane-victory/
LOCATION:S.S. Lane Victory\, 2400 Miner St\, San Pedro\, CA\, 90733
CATEGORIES:Annual Event
ATTACH;FMTTYPE=image/jpeg:https://www.sanpedrocalendar.com/wp-content/uploads/2021/08/SS-Lane-Victory.jpg
END:VEVENT
END:VCALENDAR