BEGIN:VCALENDAR
VERSION:2.0
PRODID:-//San Pedro Calendar - ECPv6.15.20//NONSGML v1.0//EN
CALSCALE:GREGORIAN
METHOD:PUBLISH
X-WR-CALNAME:San Pedro Calendar
X-ORIGINAL-URL:https://www.sanpedrocalendar.com
X-WR-CALDESC:Events for San Pedro Calendar
REFRESH-INTERVAL;VALUE=DURATION:PT1H
X-Robots-Tag:noindex
X-PUBLISHED-TTL:PT1H
BEGIN:VTIMEZONE
TZID:America/Los_Angeles
BEGIN:DAYLIGHT
TZOFFSETFROM:-0800
TZOFFSETTO:-0700
TZNAME:PDT
DTSTART:20200308T100000
END:DAYLIGHT
BEGIN:STANDARD
TZOFFSETFROM:-0700
TZOFFSETTO:-0800
TZNAME:PST
DTSTART:20201101T090000
END:STANDARD
BEGIN:DAYLIGHT
TZOFFSETFROM:-0800
TZOFFSETTO:-0700
TZNAME:PDT
DTSTART:20210314T100000
END:DAYLIGHT
BEGIN:STANDARD
TZOFFSETFROM:-0700
TZOFFSETTO:-0800
TZNAME:PST
DTSTART:20211107T090000
END:STANDARD
BEGIN:DAYLIGHT
TZOFFSETFROM:-0800
TZOFFSETTO:-0700
TZNAME:PDT
DTSTART:20220313T100000
END:DAYLIGHT
BEGIN:STANDARD
TZOFFSETFROM:-0700
TZOFFSETTO:-0800
TZNAME:PST
DTSTART:20221106T090000
END:STANDARD
END:VTIMEZONE
BEGIN:VEVENT
DTSTART;TZID=America/Los_Angeles:20211030T183000
DTEND;TZID=America/Los_Angeles:20211030T183000
DTSTAMP:20260419T122109
CREATED:20211014T203339Z
LAST-MODIFIED:20211015T155451Z
UID:18062-1635618600-1635618600@www.sanpedrocalendar.com
SUMMARY:Scary Stories Live
DESCRIPTION:LIVE Saturday\, October 30\, 6:30 pm\nAngels Gate Cultural Center\, 3601 South Gaffey Street in San Pedro.\nPerformance outside in the amphitheater around the bonfire.\nDistanced seating; masks required.\nTickets: $5 general admission. Children 6 and under – free!\nCash only\, please. No reservations required. Picnics welcome.\nBring your own chairs and dress warmly so you don’t get the shivers!\nLimited number of folding chairs available free on site.
URL:https://www.sanpedrocalendar.com/event/scary-stories-live/
LOCATION:Angels Gate Cultural Center\, 3601 S. Gaffey St\, San Pedro\, CA\, 90731\, United States
CATEGORIES:Annual Event
ATTACH;FMTTYPE=image/png:https://www.sanpedrocalendar.com/wp-content/uploads/2021/10/Scary-Stories-19-1.png
GEO:33.7134525;-118.2941368
X-APPLE-STRUCTURED-LOCATION;VALUE=URI;X-ADDRESS=Angels Gate Cultural Center 3601 S. Gaffey St San Pedro CA 90731 United States;X-APPLE-RADIUS=500;X-TITLE=3601 S. Gaffey St:geo:-118.2941368,33.7134525
END:VEVENT
END:VCALENDAR