BEGIN:VCALENDAR
VERSION:2.0
PRODID:-//San Pedro Calendar - ECPv6.15.20//NONSGML v1.0//EN
CALSCALE:GREGORIAN
METHOD:PUBLISH
X-WR-CALNAME:San Pedro Calendar
X-ORIGINAL-URL:https://www.sanpedrocalendar.com
X-WR-CALDESC:Events for San Pedro Calendar
REFRESH-INTERVAL;VALUE=DURATION:PT1H
X-Robots-Tag:noindex
X-PUBLISHED-TTL:PT1H
BEGIN:VTIMEZONE
TZID:America/Los_Angeles
BEGIN:DAYLIGHT
TZOFFSETFROM:-0800
TZOFFSETTO:-0700
TZNAME:PDT
DTSTART:20200308T100000
END:DAYLIGHT
BEGIN:STANDARD
TZOFFSETFROM:-0700
TZOFFSETTO:-0800
TZNAME:PST
DTSTART:20201101T090000
END:STANDARD
BEGIN:DAYLIGHT
TZOFFSETFROM:-0800
TZOFFSETTO:-0700
TZNAME:PDT
DTSTART:20210314T100000
END:DAYLIGHT
BEGIN:STANDARD
TZOFFSETFROM:-0700
TZOFFSETTO:-0800
TZNAME:PST
DTSTART:20211107T090000
END:STANDARD
BEGIN:DAYLIGHT
TZOFFSETFROM:-0800
TZOFFSETTO:-0700
TZNAME:PDT
DTSTART:20220313T100000
END:DAYLIGHT
BEGIN:STANDARD
TZOFFSETFROM:-0700
TZOFFSETTO:-0800
TZNAME:PST
DTSTART:20221106T090000
END:STANDARD
END:VTIMEZONE
BEGIN:VEVENT
DTSTART;TZID=America/Los_Angeles:20211106T090000
DTEND;TZID=America/Los_Angeles:20211106T140000
DTSTAMP:20260419T122109
CREATED:20211030T005221Z
LAST-MODIFIED:20211030T005620Z
UID:18114-1636189200-1636207200@www.sanpedrocalendar.com
SUMMARY:Dia de Los Muertos Chalk Festival
DESCRIPTION:Celebrate with ;your community as we turn our sidewalks into works of art honoring the dead. \nArtisan Vendors \nChalk Artists \nLive Music & Performances \nClassic Cars \n  \nFor more information please Call 310-519-6115 \n 
URL:https://www.sanpedrocalendar.com/event/dia-de-los-muertos-chalk-festival/
LOCATION:Deane Dana Friendship Park\, 1805 W. 9th Street\, San Pedro\, CA\, United States
CATEGORIES:Annual Event
ATTACH;FMTTYPE=image/png:https://www.sanpedrocalendar.com/wp-content/uploads/2021/10/Dia-de-Los-Muertos-11-6-21.png
GEO:33.7360819;-118.3159971
X-APPLE-STRUCTURED-LOCATION;VALUE=URI;X-ADDRESS=Deane Dana Friendship Park 1805 W. 9th Street San Pedro CA United States;X-APPLE-RADIUS=500;X-TITLE=1805 W. 9th Street:geo:-118.3159971,33.7360819
END:VEVENT
END:VCALENDAR