BEGIN:VCALENDAR
VERSION:2.0
PRODID:-//San Pedro Calendar - ECPv6.15.20//NONSGML v1.0//EN
CALSCALE:GREGORIAN
METHOD:PUBLISH
X-WR-CALNAME:San Pedro Calendar
X-ORIGINAL-URL:https://www.sanpedrocalendar.com
X-WR-CALDESC:Events for San Pedro Calendar
REFRESH-INTERVAL;VALUE=DURATION:PT1H
X-Robots-Tag:noindex
X-PUBLISHED-TTL:PT1H
BEGIN:VTIMEZONE
TZID:America/Los_Angeles
BEGIN:DAYLIGHT
TZOFFSETFROM:-0800
TZOFFSETTO:-0700
TZNAME:PDT
DTSTART:20200308T100000
END:DAYLIGHT
BEGIN:STANDARD
TZOFFSETFROM:-0700
TZOFFSETTO:-0800
TZNAME:PST
DTSTART:20201101T090000
END:STANDARD
BEGIN:DAYLIGHT
TZOFFSETFROM:-0800
TZOFFSETTO:-0700
TZNAME:PDT
DTSTART:20210314T100000
END:DAYLIGHT
BEGIN:STANDARD
TZOFFSETFROM:-0700
TZOFFSETTO:-0800
TZNAME:PST
DTSTART:20211107T090000
END:STANDARD
BEGIN:DAYLIGHT
TZOFFSETFROM:-0800
TZOFFSETTO:-0700
TZNAME:PDT
DTSTART:20220313T100000
END:DAYLIGHT
BEGIN:STANDARD
TZOFFSETFROM:-0700
TZOFFSETTO:-0800
TZNAME:PST
DTSTART:20221106T090000
END:STANDARD
END:VTIMEZONE
BEGIN:VEVENT
DTSTART;TZID=America/Los_Angeles:20211203T170000
DTEND;TZID=America/Los_Angeles:20211203T210000
DTSTAMP:20260419T135215
CREATED:20211203T233201Z
LAST-MODIFIED:20211203T235052Z
UID:18193-1638550800-1638565200@www.sanpedrocalendar.com
SUMMARY:35th Annual Weymouth Corners "Candy Cane Lane"
DESCRIPTION:Shopping – Music – Entertainment –  Kitty Hawk featuring DJ Jazzy & Malibu Jazz – Food – Fire TRucks – Cookie Decorating at Polly Ann Bakery – Santa Visits and Photos – Face Painting – Carnival Games – Free Admission
URL:https://www.sanpedrocalendar.com/event/weymouth-corners-candy-cane-lane-2/
LOCATION:Weymouth Corners & W 8th St\, S Weymouth Ave & W 8th St\, San Pedro\, CA\, 90732\, United States
CATEGORIES:Annual Event
ATTACH;FMTTYPE=image/jpeg:https://www.sanpedrocalendar.com/wp-content/uploads/2021/12/Candy-Cane-Lane-2021-scaled.jpg
GEO:33.7370248;-118.3096753
X-APPLE-STRUCTURED-LOCATION;VALUE=URI;X-ADDRESS=Weymouth Corners & W 8th St S Weymouth Ave & W 8th St San Pedro CA 90732 United States;X-APPLE-RADIUS=500;X-TITLE=S Weymouth Ave & W 8th St:geo:-118.3096753,33.7370248
END:VEVENT
END:VCALENDAR