BEGIN:VCALENDAR
VERSION:2.0
PRODID:-//San Pedro Calendar - ECPv6.15.20//NONSGML v1.0//EN
CALSCALE:GREGORIAN
METHOD:PUBLISH
X-WR-CALNAME:San Pedro Calendar
X-ORIGINAL-URL:https://www.sanpedrocalendar.com
X-WR-CALDESC:Events for San Pedro Calendar
REFRESH-INTERVAL;VALUE=DURATION:PT1H
X-Robots-Tag:noindex
X-PUBLISHED-TTL:PT1H
BEGIN:VTIMEZONE
TZID:America/Los_Angeles
BEGIN:DAYLIGHT
TZOFFSETFROM:-0800
TZOFFSETTO:-0700
TZNAME:PDT
DTSTART:20200308T100000
END:DAYLIGHT
BEGIN:STANDARD
TZOFFSETFROM:-0700
TZOFFSETTO:-0800
TZNAME:PST
DTSTART:20201101T090000
END:STANDARD
BEGIN:DAYLIGHT
TZOFFSETFROM:-0800
TZOFFSETTO:-0700
TZNAME:PDT
DTSTART:20210314T100000
END:DAYLIGHT
BEGIN:STANDARD
TZOFFSETFROM:-0700
TZOFFSETTO:-0800
TZNAME:PST
DTSTART:20211107T090000
END:STANDARD
BEGIN:DAYLIGHT
TZOFFSETFROM:-0800
TZOFFSETTO:-0700
TZNAME:PDT
DTSTART:20220313T100000
END:DAYLIGHT
BEGIN:STANDARD
TZOFFSETFROM:-0700
TZOFFSETTO:-0800
TZNAME:PST
DTSTART:20221106T090000
END:STANDARD
END:VTIMEZONE
BEGIN:VEVENT
DTSTART;TZID=America/Los_Angeles:20211205T130000
DTEND;TZID=America/Los_Angeles:20211205T150000
DTSTAMP:20260419T170546
CREATED:20211029T234159Z
LAST-MODIFIED:20211029T234834Z
UID:18096-1638709200-1638716400@www.sanpedrocalendar.com
SUMMARY:San Pedro Holiday Parade
DESCRIPTION:41st Annual Spirit of San Pedro Holiday Parade\nThe San Pedro Chamber of Commerce is proud to announce that the annual Spirit of San Pedro Holiday Parade will be celebrating its 41st year on Sunday\, December 5\, 2021 from 1:00 to 3:00 pm! \n\n\n\n\n\n\n\nEach year\, this festive tradition brings families\, little leagues\, scouts\, students\, high school bands\, equestrian units\, and volunteers to downtown San Pedro to celebrate the holiday season and our community.  More than 9\,000 individuals will line the streets to view the parade. \nThe annual parade is made possible through the generous support of our community. This event is presented by the San Pedro Chamber of Commerce and is a free event to the community. \nClick Here for the Parade Application 
URL:https://www.sanpedrocalendar.com/event/san-pedro-holiday-parade/
LOCATION:CA
CATEGORIES:Annual Event
ATTACH;FMTTYPE=image/png:https://www.sanpedrocalendar.com/wp-content/uploads/2021/10/San-Pedro-Holiday-Parade.png
END:VEVENT
END:VCALENDAR