BEGIN:VCALENDAR
VERSION:2.0
PRODID:-//San Pedro Calendar - ECPv6.15.20//NONSGML v1.0//EN
CALSCALE:GREGORIAN
METHOD:PUBLISH
X-ORIGINAL-URL:https://www.sanpedrocalendar.com
X-WR-CALDESC:Events for San Pedro Calendar
REFRESH-INTERVAL;VALUE=DURATION:PT1H
X-Robots-Tag:noindex
X-PUBLISHED-TTL:PT1H
BEGIN:VTIMEZONE
TZID:America/Los_Angeles
BEGIN:DAYLIGHT
TZOFFSETFROM:-0800
TZOFFSETTO:-0700
TZNAME:PDT
DTSTART:20210314T100000
END:DAYLIGHT
BEGIN:STANDARD
TZOFFSETFROM:-0700
TZOFFSETTO:-0800
TZNAME:PST
DTSTART:20211107T090000
END:STANDARD
BEGIN:DAYLIGHT
TZOFFSETFROM:-0800
TZOFFSETTO:-0700
TZNAME:PDT
DTSTART:20220313T100000
END:DAYLIGHT
BEGIN:STANDARD
TZOFFSETFROM:-0700
TZOFFSETTO:-0800
TZNAME:PST
DTSTART:20221106T090000
END:STANDARD
BEGIN:DAYLIGHT
TZOFFSETFROM:-0800
TZOFFSETTO:-0700
TZNAME:PDT
DTSTART:20230312T100000
END:DAYLIGHT
BEGIN:STANDARD
TZOFFSETFROM:-0700
TZOFFSETTO:-0800
TZNAME:PST
DTSTART:20231105T090000
END:STANDARD
END:VTIMEZONE
BEGIN:VEVENT
DTSTART;VALUE=DATE:20220527
DTEND;VALUE=DATE:20220528
DTSTAMP:20260419T224030
CREATED:20210819T195425Z
LAST-MODIFIED:20220527T200556Z
UID:17636-1653609600-1653695999@www.sanpedrocalendar.com
SUMMARY:LA Fleet Week/LA Waterfront
DESCRIPTION:SOUTHERN CALIFORNIA’S MEMORIAL DAY EVENT\nLA Fleet Week® is an annual\, multi-day celebration of our nation’s Sea Services held on the LA Waterfront at the Port of Los Angeles over the extended Memorial Day Weekend. This year’s public events include: \nActive duty ship tours\nMilitary displays and equipment demonstrations\nWells Fargo Veterans Village\nLive entertainment\nAircraft flyovers\nSnapdragon STEM Expo\nGalley Wars presented by FOX Entertainment culinary cook-off competition between Navy\, Marine Corps\, Coast Guard\, and Army teams\nWyland Clean Water Mobile Learning Experience\nMilitary band performances across L.A.\nLots of fun for the entire family. And best of all\, the weekend event is FREE to the general public! \nLA Fleet Week is not only a fun public event\, but also facilitates numerous symposiums\, exercises\, and outreaches focused on community resiliency\, disaster preparedness\, and support for area residents. \nNo reservations or tickets needed for active duty ship tours! Active duty ship tours are free and are offered on a first-come\, first-served basis. \nAnyone wishing to tour an active duty ship will need to come to the main event EXPO to board a free ship tour shuttle. Ship tour shuttles run daily from 10:15 am to 4:00 pm\, Friday-Monday\, May 27-30\, 2022. The main event EXPO is located at 250 S. Harbor Blvd.\, San Pedro\, CA 90731 – directly adjacent to the Battleship IOWA. \nIMPORTANT: The only way to reach the ship tour location is by shuttle from the main event EXPO. There is no personal vehicle or pedestrian access to the ship tour area. \nClick here for event schedule. \nFor more information\, please visit\, LAFleetWeek.com
URL:https://www.sanpedrocalendar.com/event/la-fleet-week-port-of-los-angeles/2022-05-27/
LOCATION:CA
CATEGORIES:Annual Event
ATTACH;FMTTYPE=image/png:https://www.sanpedrocalendar.com/wp-content/uploads/2021/08/LA-Fleet-Week-2022.png
END:VEVENT
END:VCALENDAR