BEGIN:VCALENDAR
VERSION:2.0
PRODID:-//San Pedro Calendar - ECPv6.15.20//NONSGML v1.0//EN
CALSCALE:GREGORIAN
METHOD:PUBLISH
X-WR-CALNAME:San Pedro Calendar
X-ORIGINAL-URL:https://www.sanpedrocalendar.com
X-WR-CALDESC:Events for San Pedro Calendar
REFRESH-INTERVAL;VALUE=DURATION:PT1H
X-Robots-Tag:noindex
X-PUBLISHED-TTL:PT1H
BEGIN:VTIMEZONE
TZID:America/Los_Angeles
BEGIN:DAYLIGHT
TZOFFSETFROM:-0800
TZOFFSETTO:-0700
TZNAME:PDT
DTSTART:20250309T100000
END:DAYLIGHT
BEGIN:STANDARD
TZOFFSETFROM:-0700
TZOFFSETTO:-0800
TZNAME:PST
DTSTART:20251102T090000
END:STANDARD
BEGIN:DAYLIGHT
TZOFFSETFROM:-0800
TZOFFSETTO:-0700
TZNAME:PDT
DTSTART:20260308T100000
END:DAYLIGHT
BEGIN:STANDARD
TZOFFSETFROM:-0700
TZOFFSETTO:-0800
TZNAME:PST
DTSTART:20261101T090000
END:STANDARD
BEGIN:DAYLIGHT
TZOFFSETFROM:-0800
TZOFFSETTO:-0700
TZNAME:PDT
DTSTART:20270314T100000
END:DAYLIGHT
BEGIN:STANDARD
TZOFFSETFROM:-0700
TZOFFSETTO:-0800
TZNAME:PST
DTSTART:20271107T090000
END:STANDARD
END:VTIMEZONE
BEGIN:VEVENT
DTSTART;TZID=America/Los_Angeles:20261226T110000
DTEND;TZID=America/Los_Angeles:20261226T113000
DTSTAMP:20260420T115112
CREATED:20260103T200439Z
LAST-MODIFIED:20260103T200757Z
UID:24159-1798282800-1798284600@www.sanpedrocalendar.com
SUMMARY:Native Garden Tour Experience-WhitePt Nature Preserve
DESCRIPTION:Come tour the White Point Native Plant Garden and learn about how to grow and care for native plants. Meet at White Point Nature Education Center\nMonthly every 4th Saturday.
URL:https://www.sanpedrocalendar.com/event/24147/2026-12-26/
LOCATION:White Point Nature Preserve\, 1600 W. Paseo del Mar\, San Pedro\, CA\, 90731\, United States
CATEGORIES:Environment
ATTACH;FMTTYPE=image/png:https://www.sanpedrocalendar.com/wp-content/uploads/2026/01/Native_Garden_Tour_01_24_26.png
GEO:33.7159931;-118.3164134
X-APPLE-STRUCTURED-LOCATION;VALUE=URI;X-ADDRESS=White Point Nature Preserve 1600 W. Paseo del Mar San Pedro CA 90731 United States;X-APPLE-RADIUS=500;X-TITLE=1600 W. Paseo del Mar:geo:-118.3164134,33.7159931
END:VEVENT
BEGIN:VEVENT
DTSTART;TZID=America/Los_Angeles:20261226T110000
DTEND;TZID=America/Los_Angeles:20261226T113000
DTSTAMP:20260420T115112
CREATED:20260221T021304Z
LAST-MODIFIED:20260221T021745Z
UID:24903-1798282800-1798284600@www.sanpedrocalendar.com
SUMMARY:Native Garden Tour-White Point Nature Preserve
DESCRIPTION:Come tour the White Point Native Plant Garden and learn about how to grow and care for native plants. Meet at White Point Nature Education Center located at 1600 Paseo del Mar\, San Pedro . Monthly every 4th Saturday. 
URL:https://www.sanpedrocalendar.com/event/native-garden-tour-white-point-nature-preserve/2026-12-26/
LOCATION:White Point Nature Preserve\, 1600 W. Paseo del Mar\, San Pedro\, CA\, 90731\, United States
CATEGORIES:Environment
ATTACH;FMTTYPE=image/png:https://www.sanpedrocalendar.com/wp-content/uploads/2026/02/PVPLC_Nature_Tour.png
GEO:33.7159931;-118.3164134
X-APPLE-STRUCTURED-LOCATION;VALUE=URI;X-ADDRESS=White Point Nature Preserve 1600 W. Paseo del Mar San Pedro CA 90731 United States;X-APPLE-RADIUS=500;X-TITLE=1600 W. Paseo del Mar:geo:-118.3164134,33.7159931
END:VEVENT
END:VCALENDAR